BEGIN:VCALENDAR
PRODID:-//eluceo/ical//2.0/EN
VERSION:2.0
CALSCALE:GREGORIAN
BEGIN:VEVENT
UID:a81330b553c3c6e1e3e2cb083d7b714c
DTSTAMP:20260420T113009Z
SUMMARY:JFLV OFFICE CLOSED FOR JULY 4th HOLIDAY
DESCRIPTION:Jewish Federation of the Lehigh Valley\nCommunity Calendar\nhtt
 ps://jewishlehighvalley.org/calendar/jflv-office-closed-for-july-4th-holid
 ay\n\nJFLV office closed for July 4th Holiday
DTSTART;TZID=America/New_York:20240704T000000
DTEND;TZID=America/New_York:20240704T000000
END:VEVENT
END:VCALENDAR
