BEGIN:VCALENDAR
PRODID:-//eluceo/ical//2.0/EN
VERSION:2.0
CALSCALE:GREGORIAN
BEGIN:VEVENT
UID:3e2b7bce8185b5e20f306374c157bae1
DTSTAMP:20260425T190821Z
SUMMARY:JFLV OFFICE CLOSED FOR MEMORIAL DAY
DESCRIPTION:Jewish Federation of the Lehigh Valley\nCommunity Calendar\nhtt
 ps://jewishlehighvalley.org/calendar/jflv-office-closed-for-memorial-day\n
 \nJFLV office closed for Memorial Day
DTSTART;TZID=America/New_York:20240527T000000
DTEND;TZID=America/New_York:20240527T000000
END:VEVENT
END:VCALENDAR
