BEGIN:VCALENDAR
PRODID:-//eluceo/ical//2.0/EN
VERSION:2.0
CALSCALE:GREGORIAN
BEGIN:VEVENT
UID:5b20d4b8cc282812ca6b71b95f0ba792
DTSTAMP:20260420T044959Z
SUMMARY:JFLV OFFICE CLOSED FOR SHMINI ATZERET 2024
DESCRIPTION:Jewish Federation of the Lehigh Valley\nCommunity Calendar\nhtt
 ps://jewishlehighvalley.org/calendar/jflv-office-closed-for-shmini-atzeret
 -2024\n\nJFLV office closed for Shmini Atzeret
DTSTART;TZID=America/New_York:20241024T000000
DTEND;TZID=America/New_York:20241024T235959
END:VEVENT
END:VCALENDAR
