BEGIN:VCALENDAR
PRODID:-//eluceo/ical//2.0/EN
VERSION:2.0
CALSCALE:GREGORIAN
BEGIN:VEVENT
UID:912069ea1843ecb0fdd614ac193ff2ff
DTSTAMP:20260419T142031Z
SUMMARY:JFLV Security Training - Stop the Bleed 3-17-25
DESCRIPTION:Jewish Federation of the Lehigh Valley\nCommunity Calendar\nhtt
 ps://jewishlehighvalley.org/calendar/jflv-security-training-stop-the-bleed
 -3-17-25\n\nTaught by Tim Brooks\, SCN Regional Security Advisor\, this tr
 aining provides community members with the skills to save lives by applyin
 g emergency first aid to control bleeding.\n\nClick here to register. Regi
 stration is required. 
DTSTART;TZID=America/New_York:20250317T140000
DTEND;TZID=America/New_York:20250317T150000
END:VEVENT
END:VCALENDAR
