BEGIN:VCALENDAR
PRODID:-//eluceo/ical//2.0/EN
VERSION:2.0
CALSCALE:GREGORIAN
BEGIN:VEVENT
UID:cde4230c867fe303d430f7f326f842aa
DTSTAMP:20260419T131401Z
SUMMARY:JFLV Women's Philanthropy Mitzvah Project - Mt. Sinai Cemetery Clea
 n-up
DESCRIPTION:Jewish Federation of the Lehigh Valley\nCommunity Calendar\nhtt
 ps://jewishlehighvalley.org/calendar/jflv-womens-philanthropy-mitzvah-proj
 ect-mt-sinai-cemetery-clean-up\n\nJoin the Women's Philanthropy mitzvah pr
 oject cleaning up the historic Mt. Sinai Cemetery and preserving Lehigh Va
 lley Jewish history.\n\nIf you are able\, please bring gardening gloves\, 
 knee pads and a rake for your use.\n\nLearn about the cemetery. \n\n Cli
 ck here to register for the cleanup.
DTSTART;TZID=America/New_York:20260506T103000
DTEND;TZID=America/New_York:20260506T123000
END:VEVENT
END:VCALENDAR
