BEGIN:VCALENDAR
PRODID:-//eluceo/ical//2.0/EN
VERSION:2.0
CALSCALE:GREGORIAN
BEGIN:VEVENT
UID:5abf0241337d2d7a9af42b8e2b863dfa
DTSTAMP:20260425T124426Z
SUMMARY:10:30 AM KI The Whole Megillah and Then Some
DESCRIPTION:Jewish Federation of the Lehigh Valley\nCommunity Calendar\nhtt
 ps://jewishlehighvalley.org/calendar/ki-1030-am-the-whole-megillah-and-the
 n-some\n\nJoin Rabbi Seth for class on Zoom every Thursday  from 10:30 am
 -12:00 pm.
DTSTART;TZID=America/New_York:20220120T103000
DTEND;TZID=America/New_York:20220120T120000
END:VEVENT
END:VCALENDAR
