BEGIN:VCALENDAR
PRODID:-//eluceo/ical//2.0/EN
VERSION:2.0
CALSCALE:GREGORIAN
BEGIN:VEVENT
UID:07b23c74cd9ae6f4973577234523309a
DTSTAMP:20260419T152901Z
SUMMARY:KI 7:30 pm Aland Salinger & Adult Hebrew Class will participate
DESCRIPTION:Jewish Federation of the Lehigh Valley\nCommunity Calendar\nhtt
 ps://jewishlehighvalley.org/calendar/ki-730-pm-aland-salinger-adult-hebrew
 -class-will-participate\n\nAlan Salinger and the Adult Hebrew Class will b
 e participating at service
DTSTART;TZID=America/New_York:20230203T193000
DTEND;TZID=America/New_York:20230203T213000
END:VEVENT
END:VCALENDAR
