BEGIN:VCALENDAR
PRODID:-//eluceo/ical//2.0/EN
VERSION:2.0
CALSCALE:GREGORIAN
BEGIN:VEVENT
UID:cc4b794b0b6a86cbf9e79102231e2765
DTSTAMP:20260421T005920Z
SUMMARY:Labor Day
DESCRIPTION:Jewish Federation of the Lehigh Valley\nCommunity Calendar\nhtt
 ps://jewishlehighvalley.org/calendar/labor-day\n\nLabor Day - JFLV Offices
  Closed
DTSTART;TZID=America/New_York:20210906T000000
DTEND;TZID=America/New_York:20210906T235959
END:VEVENT
END:VCALENDAR
