BEGIN:VCALENDAR
PRODID:-//eluceo/ical//2.0/EN
VERSION:2.0
CALSCALE:GREGORIAN
BEGIN:VEVENT
UID:8ad27e666778e4afcb84c3ca67a25823
DTSTAMP:20260424T074743Z
SUMMARY:Listen Live: Kol Ha'Emek Hosted by Cantor Kevin Wartell
DESCRIPTION:Jewish Federation of the Lehigh Valley\nCommunity Calendar\nhtt
 ps://jewishlehighvalley.org/calendar/listen-live-kol-haemek-hosted-by-cant
 or-kevin-wartell\n\nThe name means Voice of the Valley\, and the program\,
  which has been on the air for more than 30 years\, celebrates Jewish musi
 c and culture. Cantor Kevin Wartell talks each week to community leaders a
 nd highlights events. \n\nClick here to listen live.\n\nSponsor: Muhlenbe
 rg College WMUH
DTSTART;TZID=America/New_York:20211029T083000
DTEND;TZID=America/New_York:20211029T093000
END:VEVENT
END:VCALENDAR
