BEGIN:VCALENDAR
PRODID:-//eluceo/ical//2.0/EN
VERSION:2.0
CALSCALE:GREGORIAN
BEGIN:VEVENT
UID:792498100fd81a4c10132c6f5c79fc0f
DTSTAMP:20260420T045457Z
SUMMARY:10:00 am PJ Library My Grown-up and Me
DESCRIPTION:Jewish Federation of the Lehigh Valley\nCommunity Calendar\nhtt
 ps://jewishlehighvalley.org/calendar/my-grown-up-and-me-1579127377\n\nPJ L
 ibrary and Congregations Son's of Israel invite moms and dads to an hour o
 f songs\, stories and play for children 3 years and under. This program is
  FREE and OPEN TO EVERYONE. *You do not need to be a member to attend!
DTSTART;TZID=America/New_York:20200202T100000
DTEND;TZID=America/New_York:20200202T110000
END:VEVENT
END:VCALENDAR
