BEGIN:VCALENDAR
PRODID:-//eluceo/ical//2.0/EN
VERSION:2.0
CALSCALE:GREGORIAN
BEGIN:VEVENT
UID:d177b92172a5c93cf671df70cf5ee409
DTSTAMP:20260422T181106Z
SUMMARY:New Year's Day Observed - Federation Office Closed
DESCRIPTION:Jewish Federation of the Lehigh Valley\nCommunity Calendar\nhtt
 ps://jewishlehighvalley.org/calendar/new-years-day-observed-federation-off
 ice-closed\n\nFederation offices closed in observance of New Year's Day
DTSTART;TZID=America/New_York:20230102T000000
DTEND;TZID=America/New_York:20230102T000000
END:VEVENT
END:VCALENDAR
