BEGIN:VCALENDAR
PRODID:-//eluceo/ical//2.0/EN
VERSION:2.0
CALSCALE:GREGORIAN
BEGIN:VEVENT
UID:95863235bd8afc5b1c381603e55d1908
DTSTAMP:20260421T204104Z
SUMMARY:On the Same Page: “All the Rivers” Book Discussion
DESCRIPTION:Jewish Federation of the Lehigh Valley\nCommunity Calendar\nhtt
 ps://jewishlehighvalley.org/calendar/on-the-same-page-all-the-rivers-book-
 discussion\n\nA controversial\, award-winning story about the passionate b
 ut untenable affair between an Israeli woman and a Palestinian man\, from 
 one of Israel’s most acclaimed novelists. Click here to find a copy of t
 he book on sale. Watch a promo video for the book here.\n\nNEW TO OTSP? Qu
 arterly meetings with participants from the Jewish community in the Lehigh
  Valley along with our partners in Yoav. We use contemporary Israeli & Jew
 ish American literature to ignite conversations and foster meaningful...
DTSTART;TZID=America/New_York:20210728T190000
DTEND;TZID=America/New_York:20210728T200000
END:VEVENT
END:VCALENDAR
