BEGIN:VCALENDAR
PRODID:-//eluceo/ical//2.0/EN
VERSION:2.0
CALSCALE:GREGORIAN
BEGIN:VEVENT
UID:ca81d0e809f31368cdb60e6243f99623
DTSTAMP:20260419T164420Z
SUMMARY:Passover
DESCRIPTION:Jewish Federation of the Lehigh Valley\nCommunity Calendar\nhtt
 ps://jewishlehighvalley.org/calendar/passover2027\n\nPassover
DTSTART;TZID=America/New_York:20270422T000000
DTEND;TZID=America/New_York:20270429T235959
END:VEVENT
END:VCALENDAR
