BEGIN:VCALENDAR
PRODID:-//eluceo/ical//2.0/EN
VERSION:2.0
CALSCALE:GREGORIAN
BEGIN:VEVENT
UID:1556ed8f3d8fd5eade40e505fdbe3547
DTSTAMP:20260421T052009Z
SUMMARY:6:30 pm Chabad Purim After Dark
DESCRIPTION:Jewish Federation of the Lehigh Valley\nCommunity Calendar\nhtt
 ps://jewishlehighvalley.org/calendar/purim-after-dark-1740406690\n\nA nigh
 t of joy\, laughter & celebration! Featuring break fast and megillah readi
 ng. DRESS TO IMPRESS!\n\nFor more information and to RSVP\, please visit:
  www.chabadlehighvalley.com/purimpm
DTSTART;TZID=America/New_York:20250313T183000
DTEND;TZID=America/New_York:20250313T210000
END:VEVENT
END:VCALENDAR
