BEGIN:VCALENDAR
PRODID:-//eluceo/ical//2.0/EN
VERSION:2.0
CALSCALE:GREGORIAN
BEGIN:VEVENT
UID:0542cabdb41be69483ce70feeb4a2c5a
DTSTAMP:20260420T042508Z
SUMMARY:5:00 pm Chabad Purim Meets Shabbat
DESCRIPTION:Jewish Federation of the Lehigh Valley\nCommunity Calendar\nhtt
 ps://jewishlehighvalley.org/calendar/purim-meets-shabbat-1740407082\n\nMeg
 illah Reading\, Dinner\, Kabbalat Shabbat and more! RSVP by March 10th to 
 www.chabadlehighvalley.com/purim5785
DTSTART;TZID=America/New_York:20250314T170000
DTEND;TZID=America/New_York:20250314T210000
END:VEVENT
END:VCALENDAR
