BEGIN:VCALENDAR
PRODID:-//eluceo/ical//2.0/EN
VERSION:2.0
CALSCALE:GREGORIAN
BEGIN:VEVENT
UID:fd06ae9b5d39b7fb5f8c5cec9b4fe092
DTSTAMP:20260419T205820Z
SUMMARY:10:30 Schmooze & Schmear Monthly Group for Retired Men - February 2
 7\, 2020
DESCRIPTION:Jewish Federation of the Lehigh Valley\nCommunity Calendar\nhtt
 ps://jewishlehighvalley.org/calendar/schmooze-schmear-monthly-group-for-re
 tired-men-february-27-2020-344311\n\nJoin our monthly retired men's group 
 on the 3rd* Thursday of each month at the Temple Beth El for a bite to eat
  and good conversation with facilitators Sam & Leon.\n\nRSVP to Carol of J
 ewish Family Service\, 610-821-8722. Transportation provided upon request.
 \n\n*Meetings are on the 3rd Thursday of each month\, except for April\, w
 hich is on the 4th Thursday because of Pesach. February meeting will also 
 be held on fourth Thursday\, February 27.
DTSTART;TZID=America/New_York:20200227T103000
DTEND;TZID=America/New_York:20200227T114500
END:VEVENT
END:VCALENDAR
