BEGIN:VCALENDAR
PRODID:-//eluceo/ical//2.0/EN
VERSION:2.0
CALSCALE:GREGORIAN
BEGIN:VEVENT
UID:cb08cbb10a036be0241545383c5273d5
DTSTAMP:20260421T062745Z
SUMMARY:10:30 Schmooze & Schmear Monthly Group for Retired Men - March 19\,
  2020
DESCRIPTION:Jewish Federation of the Lehigh Valley\nCommunity Calendar\nhtt
 ps://jewishlehighvalley.org/calendar/schmooze-schmear-monthly-group-for-re
 tired-men-march-19-2020-344312\n\nJoin our monthly retired men's group on 
 the 3rd* Thursday of each month at the Temple Beth El for a bite to eat an
 d good conversation with facilitators Sam & Leon.\n\nRSVP to Carol of Jewi
 sh Family Service\, 610-821-8722. Transportation provided upon request.\n\
 n*Meetings are on the 3rd Thursday of each month\, except for April\, whic
 h is on the 4th Thursday because of Pesach. February meeting will also be 
 held on fourth Thursday\, February 27.
DTSTART;TZID=America/New_York:20200319T103000
DTEND;TZID=America/New_York:20200319T114500
END:VEVENT
END:VCALENDAR
