BEGIN:VCALENDAR
PRODID:-//eluceo/ical//2.0/EN
VERSION:2.0
CALSCALE:GREGORIAN
BEGIN:VEVENT
UID:f91fee5fae1b27361373aec15740f5fd
DTSTAMP:20260425T112031Z
SUMMARY:Special Series - Gaza in Jewish History: What's it all about?
DESCRIPTION:Jewish Federation of the Lehigh Valley\nCommunity Calendar\nhtt
 ps://jewishlehighvalley.org/calendar/special-series-gaza-in-jewish-history
 -whats-it-all-about-116\n\nJeanette Eichenwald returns for this special se
 ries - Gaza in Jewish History: What’s it all about? This eight-session s
 eries will be in person at the JCC board room. A recording of each class w
 ill be available for those who cannot attend in person.\n\nClick here to r
 egister. The cost is $100 per person. Registration is required to attend i
 n person or to view the recordings.\n\nClass dates:\nTuesdays: December 5\
 , December 12\, December 19\, January 16\, January 23\, January 30\, Febru
 ary 6 and Fe...
DTSTART;TZID=America/New_York:20240116T093000
DTEND;TZID=America/New_York:20240116T103000
END:VEVENT
END:VCALENDAR
