BEGIN:VCALENDAR
PRODID:-//eluceo/ical//2.0/EN
VERSION:2.0
CALSCALE:GREGORIAN
BEGIN:VEVENT
UID:5fc16f8770f7686f63d8c2230de542cf
DTSTAMP:20260421T123948Z
SUMMARY:Sukkot
DESCRIPTION:Jewish Federation of the Lehigh Valley\nCommunity Calendar\nhtt
 ps://jewishlehighvalley.org/calendar/sukkot2026\n\nSukkot
DTSTART;TZID=America/New_York:20260926T000000
DTEND;TZID=America/New_York:20261002T235959
END:VEVENT
END:VCALENDAR
