BEGIN:VCALENDAR
PRODID:-//eluceo/ical//2.0/EN
VERSION:2.0
CALSCALE:GREGORIAN
BEGIN:VEVENT
UID:18c07c8e484bb92d89d46a1c2f851e44
DTSTAMP:20260420T134745Z
SUMMARY:Tish'a B'Av
DESCRIPTION:Jewish Federation of the Lehigh Valley\nCommunity Calendar\nhtt
 ps://jewishlehighvalley.org/calendar/tisha-bav2026\n\nTish'a B'Av
DTSTART;TZID=America/New_York:20260723T000000
DTEND;TZID=America/New_York:20260723T235959
END:VEVENT
END:VCALENDAR
