BEGIN:VCALENDAR
PRODID:-//eluceo/ical//2.0/EN
VERSION:2.0
CALSCALE:GREGORIAN
BEGIN:VEVENT
UID:44da0e8b35b083dc8ec915167096df39
DTSTAMP:20260420T063047Z
SUMMARY:Ukraine: Solidarity Gathering & Prayer Vigil
DESCRIPTION:Jewish Federation of the Lehigh Valley\nCommunity Calendar\nhtt
 ps://jewishlehighvalley.org/calendar/ukraine-solidarity-gathering-prayer-v
 igil\n\nPlease join us and bring a candle. \n\nSponsored by the Brotherhoo
 d of Ukrainian Clergy in the Lehigh Valley\, the Ukrainian National Women'
 s League of America Branch #91 Bethlehem\, the Bethlehem Interfaith Group\
 , the city of Bethlehem PA\, and the Jewish Federation of the Lehigh Valle
 y
DTSTART;TZID=America/New_York:20220309T190000
DTEND;TZID=America/New_York:20220309T200000
END:VEVENT
END:VCALENDAR
