BEGIN:VCALENDAR
PRODID:-//eluceo/ical//2.0/EN
VERSION:2.0
CALSCALE:GREGORIAN
BEGIN:VEVENT
UID:ee244ab860135e1392e6ad14ca14e2f8
DTSTAMP:20260423T071018Z
SUMMARY:Yachad 2022 Fall Classes - Thursdays 9/8
DESCRIPTION:Jewish Federation of the Lehigh Valley\nCommunity Calendar\nhtt
 ps://jewishlehighvalley.org/calendar/yachad-2022-fall-classes-thursdays-98
 \n\nJoin us for Yachad classes. More details to follow.
DTSTART;TZID=America/New_York:20220908T093000
DTEND;TZID=America/New_York:20220908T103000
END:VEVENT
END:VCALENDAR
