BEGIN:VCALENDAR
PRODID:-//eluceo/ical//2.0/EN
VERSION:2.0
CALSCALE:GREGORIAN
BEGIN:VEVENT
UID:1423f870dda8c9236469cecb49e48d46
DTSTAMP:20260421T002629Z
SUMMARY:Yom Hazikaron Observance: A Face. The Day. A Memorial.
DESCRIPTION:Jewish Federation of the Lehigh Valley\nCommunity Calendar\nhtt
 ps://jewishlehighvalley.org/calendar/yom-hazikaron-observance-4-17-2018\n\
 nCommemorating the lives of fallen IDF soldiers and those who lost their l
 ives in terrorist attacks through video.\n\nFeaturing a new artistic insta
 llation by Beit Avi Chai of Jerusalem called “A Face. The Day. A Memoria
 l.”  that utilizes current technologies in order to transform memories 
 from the lives of fallen IDF soldiers and those who lost their lives in te
 rrorist attacks into animation films.\n\nProgram will also feature middle 
 school students from the Jewish Day School\, reflecting...
DTSTART;TZID=America/New_York:20180417T193000
DTEND;TZID=America/New_York:20180417T210000
END:VEVENT
END:VCALENDAR
