BEGIN:VCALENDAR
PRODID:-//eluceo/ical//2.0/EN
VERSION:2.0
CALSCALE:GREGORIAN
BEGIN:VEVENT
UID:770b26197cf2d4586094a54d6dc82975
DTSTAMP:20260420T042527Z
SUMMARY:Israel Solidarity Gathering & Briefing
DESCRIPTION:Jewish Federation of the Lehigh Valley\nUpcoming Events\nhttps:
 //jewishlehighvalley.org/events/israel-solidarity-gathering-briefing-75972
 \n\nAn opportunity for the community to come together\, show support for I
 srael during this difficult time and learn more about the current situatio
 n.\n\nDr. Jonathan Schanzer\, an expert on Middle East affairs\, will prov
 ide us with an in-depth analysis of the fluid situation in Israel. Dr. Sch
 anzer brings solid scholarship and public policy credentials to his job of
  overseeing research at the Foundation for Defense of Democracies. He work
 ed as a terrorism finance analyst at the U.S. Department of ...
DTSTART;TZID=America/New_York:20140722T191500
DTEND;TZID=America/New_York:20140722T204500
END:VEVENT
END:VCALENDAR
